Workbook

Sheet Sheet1
A1: 2019년 등록신청서 및 개인정보처리동의서
C2: 소속 | E2: 지구연합회 | H2: 등록 담당 지도자 | I2: 이름 | J2: 연락처 | K2: 이메일
E3: 대번호
E4: 대이름
C6: 구분 | E6: 은행 | F6: 계좌번호 | H6: 예금주 | J6: 등록비
C7: 스카우트 | E7: 우리은행 | F7: 1005-502-910182 | H7: 한국스카우트가톨릭연맹 | J7: =SUM(I33:I124) -> 0
C8: 걸스카우트 | E8: 우리은행 | F8: 1005-102-946359 | H8: (사)한국걸스카우트가톨릭연맹 | J8: =SUM(J33:J124) -> 0
C10: 개인정보 수집·이용에 대한 동의 ◎개인정보 수집 항목 * 이름, 생년월일, 성별, 전화번호, 이메일, 주소, 소속, 직책 ◎개인정보 이용 목적 * 등록 및 행사참가, 활동경력의 기록 및 보존 * 과거 활동기록 및 당해연도 활동기록 간의 동일자 식별 * 추후 회원 본인이 활동기록을 필요로 할 경우에 대한 준비 ◎개인정보 보유 및 이용 기간 * 회원탈퇴 전 까지 개인정보 제3자 제공에 대한 동의 * 한국걸스카우트연맹은 아래와 같은 목적으로 개인정보를 제3자에게 제공합니다. - (주)흥국화재해상보험 : 활동 시 안전보장을 위한 보험계약(5년) - 행정안전부1365자원봉사포털사이트 : 봉사실적등재 및 NEIS등재신청을 위한 봉사실적정보 제공 * 한국스카우트연맹은 아래와 같은 목적으로 개인정보를 제3자에게 제공합니다 - (주)아이티에스피(시스템 운영 위탁업체) : 활동기록, 홈페이지관리를 위한 회원 개인식별 초상권 사용에 대한 동의 * 활동 사진 및 영상을 홍보자료에 활용, 활동 기록 및 보존 목적으로 수집하여 준영구적으로 활용 동의 거부 권리 및 그 불이익 내용 * 개인정보 수집 및 이용에 대한 동의사항에 거부할 수 있으며, 동의 거부 시에는 회원가입과 상해 안전사고 발생 시 보상 청구가 불가합니다. 개인정보처리 동의는 본인이 해주시기 바라며, 만14세미만인 경우 법정대리인이 서명해주시기 바랍니다. 한국걸스카우트연맹, 한국스카우트연맹 중 등록하는 연맹에만 적용됩니다. | K10: 육성단체대표확인
K14: 개인정보처리동의확인
A32: No | B32: 이름 | C32: 성별 | D32: 등록구분 | F32: 스카우트 | G32: 걸스카우트 | H32: 면제구분 | I32: 스카우트등록비 | J32: 걸스카우트등록비 | K32: 등록비합계 | L32: 개인정보처리동의 | N32: 면제코드 | O32: 등록구분 | P32: S 연령 | Q32: G 연령 | R32: S등록비 | S32: G등록비
A33: =IF(B33=0,,1) -> 0 | I33: =R33 -> 0 | J33: =S33 -> 0 | K33: =I33+J33 -> 0 | N33: =IFERROR(VLOOKUP(Sheet1!$H33,Sheet2!$I$2:$J$6,2,0),"") | O33: =IFERROR(VLOOKUP(E33,Sheet2!$C$2:$D$5,2,0),"") | P33: =IFERROR(VLOOKUP(F33,Sheet2!$E$2:$F$7,2,0),"") | Q33: =IFERROR(VLOOKUP(G33,Sheet2!$G$2:$H$8,2,0),"") | R33: =VALUE(IFERROR(VLOOKUP(Sheet2!$A13&Sheet2!$B13&Sheet2!$C13&Sheet2!$D13,Sheet2!$F$20:$H$47,2,0),0)) -> 0 | S33: =VALUE(IFERROR(VLOOKUP(Sheet2!$A13&Sheet2!$B13&Sheet2!$C13&Sheet2!$D13,Sheet2!$F$20:$H$47,3,0),0)) -> 0
A34: =IF(B34=0,,A33+1) -> 0 | I34: =R34 -> 0 | J34: =S34 -> 0 | K34: =I34+J34 -> 0 | N34: =IFERROR(VLOOKUP(Sheet1!$H34,Sheet2!$I$2:$J$6,2,0),"") | O34: =IFERROR(VLOOKUP(E34,Sheet2!$C$2:$D$5,2,0),"") | P34: =IFERROR(VLOOKUP(F34,Sheet2!$E$2:$F$7,2,0),"") | Q34: =IFERROR(VLOOKUP(G34,Sheet2!$G$2:$H$8,2,0),"") | R34: =VALUE(IFERROR(VLOOKUP(Sheet2!$A14&Sheet2!$B14&Sheet2!$C14&Sheet2!$D14,Sheet2!$F$20:$H$47,2,0),0)) -> 0 | S34: =VALUE(IFERROR(VLOOKUP(Sheet2!$A14&Sheet2!$B14&Sheet2!$C14&Sheet2!$D14,Sheet2!$F$20:$H$47,3,0),0)) -> 0
A35: =IF(B35=0,,A34+1) -> 0 | I35: =R35 -> 0 | J35: =S35 -> 0 | K35: =I35+J35 -> 0 | N35: =IFERROR(VLOOKUP(Sheet1!$H35,Sheet2!$I$2:$J$6,2,0),"") | O35: =IFERROR(VLOOKUP(E35,Sheet2!$C$2:$D$5,2,0),"") | P35: =IFERROR(VLOOKUP(F35,Sheet2!$E$2:$F$7,2,0),"") | Q35: =IFERROR(VLOOKUP(G35,Sheet2!$G$2:$H$8,2,0),"") | R35: =VALUE(IFERROR(VLOOKUP(Sheet2!$A15&Sheet2!$B15&Sheet2!$C15&Sheet2!$D15,Sheet2!$F$20:$H$47,2,0),0)) -> 0 | S35: =VALUE(IFERROR(VLOOKUP(Sheet2!$A15&Sheet2!$B15&Sheet2!$C15&Sheet2!$D15,Sheet2!$F$20:$H$47,3,0),0)) -> 0
A36: =IF(B36=0,,A35+1) -> 0 | I36: =R36 -> 0 | J36: =S36 -> 0 | K36: =I36+J36 -> 0 | N36: =IFERROR(VLOOKUP(Sheet1!$H36,Sheet2!$I$2:$J$6,2,0),"") | O36: =IFERROR(VLOOKUP(E36,Sheet2!$C$2:$D$5,2,0),"") | P36: =IFERROR(VLOOKUP(F36,Sheet2!$E$2:$F$7,2,0),"") | Q36: =IFERROR(VLOOKUP(G36,Sheet2!$G$2:$H$8,2,0),"") | R36: =VALUE(IFERROR(VLOOKUP(Sheet2!$A16&Sheet2!$B16&Sheet2!$C16&Sheet2!$D16,Sheet2!$F$20:$H$47,2,0),0)) -> 0 | S36: =VALUE(IFERROR(VLOOKUP(Sheet2!$A16&Sheet2!$B16&Sheet2!$C16&Sheet2!$D16,Sheet2!$F$20:$H$47,3,0),0)) -> 0
A37: =IF(B37=0,,A36+1) -> 0 | I37: =R37 -> 0 | J37: =S37 -> 0 | K37: =I37+J37 -> 0 | N37: =IFERROR(VLOOKUP(Sheet1!$H37,Sheet2!$I$2:$J$6,2,0),"") | O37: =IFERROR(VLOOKUP(E37,Sheet2!$C$2:$D$5,2,0),"") | P37: =IFERROR(VLOOKUP(F37,Sheet2!$E$2:$F$7,2,0),"") | Q37: =IFERROR(VLOOKUP(G37,Sheet2!$G$2:$H$8,2,0),"") | R37: =VALUE(IFERROR(VLOOKUP(Sheet2!$A17&Sheet2!$B17&Sheet2!$C17&Sheet2!$D17,Sheet2!$F$20:$H$47,2,0),0)) -> 0 | S37: =VALUE(IFERROR(VLOOKUP(Sheet2!$A17&Sheet2!$B17&Sheet2!$C17&Sheet2!$D17,Sheet2!$F$20:$H$47,3,0),0)) -> 0
A38: =IF(B38=0,,A37+1) -> 0 | I38: =R38 -> 0 | J38: =S38 -> 0 | K38: =I38+J38 -> 0 | N38: =IFERROR(VLOOKUP(Sheet1!$H38,Sheet2!$I$2:$J$6,2,0),"") | O38: =IFERROR(VLOOKUP(E38,Sheet2!$C$2:$D$5,2,0),"") | P38: =IFERROR(VLOOKUP(F38,Sheet2!$E$2:$F$7,2,0),"") | Q38: =IFERROR(VLOOKUP(G38,Sheet2!$G$2:$H$8,2,0),"") | R38: =VALUE(IFERROR(VLOOKUP(Sheet2!$A18&Sheet2!$B18&Sheet2!$C18&Sheet2!$D18,Sheet2!$F$20:$H$47,2,0),0)) -> 0 | S38: =VALUE(IFERROR(VLOOKUP(Sheet2!$A18&Sheet2!$B18&Sheet2!$C18&Sheet2!$D18,Sheet2!$F$20:$H$47,3,0),0)) -> 0
A39: =IF(B39=0,,A38+1) -> 0 | I39: =R39 -> 0 | J39: =S39 -> 0 | K39: =I39+J39 -> 0 | N39: =IFERROR(VLOOKUP(Sheet1!$H39,Sheet2!$I$2:$J$6,2,0),"") | O39: =IFERROR(VLOOKUP(E39,Sheet2!$C$2:$D$5,2,0),"") | P39: =IFERROR(VLOOKUP(F39,Sheet2!$E$2:$F$7,2,0),"") | Q39: =IFERROR(VLOOKUP(G39,Sheet2!$G$2:$H$8,2,0),"") | R39: =VALUE(IFERROR(VLOOKUP(Sheet2!$A19&Sheet2!$B19&Sheet2!$C19&Sheet2!$D19,Sheet2!$F$20:$H$47,2,0),0)) -> 0 | S39: =VALUE(IFERROR(VLOOKUP(Sheet2!$A19&Sheet2!$B19&Sheet2!$C19&Sheet2!$D19,Sheet2!$F$20:$H$47,3,0),0)) -> 0
A40: =IF(B40=0,,A39+1) -> 0 | I40: =R40 -> 0 | J40: =S40 -> 0 | K40: =I40+J40 -> 0 | N40: =IFERROR(VLOOKUP(Sheet1!$H40,Sheet2!$I$2:$J$6,2,0),"") | O40: =IFERROR(VLOOKUP(E40,Sheet2!$C$2:$D$5,2,0),"") | P40: =IFERROR(VLOOKUP(F40,Sheet2!$E$2:$F$7,2,0),"") | Q40: =IFERROR(VLOOKUP(G40,Sheet2!$G$2:$H$8,2,0),"") | R40: =VALUE(IFERROR(VLOOKUP(Sheet2!$A20&Sheet2!$B20&Sheet2!$C20&Sheet2!$D20,Sheet2!$F$20:$H$47,2,0),0)) -> 0 | S40: =VALUE(IFERROR(VLOOKUP(Sheet2!$A20&Sheet2!$B20&Sheet2!$C20&Sheet2!$D20,Sheet2!$F$20:$H$47,3,0),0)) -> 0
A41: =IF(B41=0,,A40+1) -> 0 | I41: =R41 -> 0 | J41: =S41 -> 0 | K41: =I41+J41 -> 0 | N41: =IFERROR(VLOOKUP(Sheet1!$H41,Sheet2!$I$2:$J$6,2,0),"") | O41: =IFERROR(VLOOKUP(E41,Sheet2!$C$2:$D$5,2,0),"") | P41: =IFERROR(VLOOKUP(F41,Sheet2!$E$2:$F$7,2,0),"") | Q41: =IFERROR(VLOOKUP(G41,Sheet2!$G$2:$H$8,2,0),"") | R41: =VALUE(IFERROR(VLOOKUP(Sheet2!$A21&Sheet2!$B21&Sheet2!$C21&Sheet2!$D21,Sheet2!$F$20:$H$47,2,0),0)) -> 0 | S41: =VALUE(IFERROR(VLOOKUP(Sheet2!$A21&Sheet2!$B21&Sheet2!$C21&Sheet2!$D21,Sheet2!$F$20:$H$47,3,0),0)) -> 0
A42: =IF(B42=0,,A41+1) -> 0 | I42: =R42 -> 0 | J42: =S42 -> 0 | K42: =I42+J42 -> 0 | N42: =IFERROR(VLOOKUP(Sheet1!$H42,Sheet2!$I$2:$J$6,2,0),"") | O42: =IFERROR(VLOOKUP(E42,Sheet2!$C$2:$D$5,2,0),"") | P42: =IFERROR(VLOOKUP(F42,Sheet2!$E$2:$F$7,2,0),"") | Q42: =IFERROR(VLOOKUP(G42,Sheet2!$G$2:$H$8,2,0),"") | R42: =VALUE(IFERROR(VLOOKUP(Sheet2!$A22&Sheet2!$B22&Sheet2!$C22&Sheet2!$D22,Sheet2!$F$20:$H$47,2,0),0)) -> 0 | S42: =VALUE(IFERROR(VLOOKUP(Sheet2!$A22&Sheet2!$B22&Sheet2!$C22&Sheet2!$D22,Sheet2!$F$20:$H$47,3,0),0)) -> 0
A43: =IF(B43=0,,A42+1) -> 0 | I43: =R43 -> 0 | J43: =S43 -> 0 | K43: =I43+J43 -> 0 | N43: =IFERROR(VLOOKUP(Sheet1!$H43,Sheet2!$I$2:$J$6,2,0),"") | O43: =IFERROR(VLOOKUP(E43,Sheet2!$C$2:$D$5,2,0),"") | P43: =IFERROR(VLOOKUP(F43,Sheet2!$E$2:$F$7,2,0),"") | Q43: =IFERROR(VLOOKUP(G43,Sheet2!$G$2:$H$8,2,0),"") | R43: =VALUE(IFERROR(VLOOKUP(Sheet2!$A23&Sheet2!$B23&Sheet2!$C23&Sheet2!$D23,Sheet2!$F$20:$H$47,2,0),0)) -> 0 | S43: =VALUE(IFERROR(VLOOKUP(Sheet2!$A23&Sheet2!$B23&Sheet2!$C23&Sheet2!$D23,Sheet2!$F$20:$H$47,3,0),0)) -> 0
A44: =IF(B44=0,,A43+1) -> 0 | I44: =R44 -> 0 | J44: =S44 -> 0 | K44: =I44+J44 -> 0 | N44: =IFERROR(VLOOKUP(Sheet1!$H44,Sheet2!$I$2:$J$6,2,0),"") | O44: =IFERROR(VLOOKUP(E44,Sheet2!$C$2:$D$5,2,0),"") | P44: =IFERROR(VLOOKUP(F44,Sheet2!$E$2:$F$7,2,0),"") | Q44: =IFERROR(VLOOKUP(G44,Sheet2!$G$2:$H$8,2,0),"") | R44: =VALUE(IFERROR(VLOOKUP(Sheet2!$A24&Sheet2!$B24&Sheet2!$C24&Sheet2!$D24,Sheet2!$F$20:$H$47,2,0),0)) -> 0 | S44: =VALUE(IFERROR(VLOOKUP(Sheet2!$A24&Sheet2!$B24&Sheet2!$C24&Sheet2!$D24,Sheet2!$F$20:$H$47,3,0),0)) -> 0
A45: =IF(B45=0,,A44+1) -> 0 | I45: =R45 -> 0 | J45: =S45 -> 0 | K45: =I45+J45 -> 0 | N45: =IFERROR(VLOOKUP(Sheet1!$H45,Sheet2!$I$2:$J$6,2,0),"") | O45: =IFERROR(VLOOKUP(E45,Sheet2!$C$2:$D$5,2,0),"") | P45: =IFERROR(VLOOKUP(F45,Sheet2!$E$2:$F$7,2,0),"") | Q45: =IFERROR(VLOOKUP(G45,Sheet2!$G$2:$H$8,2,0),"") | R45: =VALUE(IFERROR(VLOOKUP(Sheet2!$A25&Sheet2!$B25&Sheet2!$C25&Sheet2!$D25,Sheet2!$F$20:$H$47,2,0),0)) -> 0 | S45: =VALUE(IFERROR(VLOOKUP(Sheet2!$A25&Sheet2!$B25&Sheet2!$C25&Sheet2!$D25,Sheet2!$F$20:$H$47,3,0),0)) -> 0
... A124: =IF(B124=0,,A123+1) -> 0 | I124: =R124 -> 0 | J124: =S124 -> 0 | K124: =I124+J124 -> 0 | N124: =IFERROR(VLOOKUP(Sheet1!$H124,Sheet2!$I$2:$J$6,2,0),"") | O124: =IFERROR(VLOOKUP(E124,Sheet2!$C$2:$D$5,2,0),"") | P124: =IFERROR(VLOOKUP(F124,Sheet2!$E$2:$F$7,2,0),"") | Q124: =IFERROR(VLOOKUP(G124,Sheet2!$G$2:$H$8,2,0),"") | R124: =VALUE(IFERROR(VLOOKUP(Sheet2!$A104&Sheet2!$B104&Sheet2!$C104&Sheet2!$D104,Sheet2!$F$20:$H$47,2,0),0)) -> 0 | S124: =VALUE(IFERROR(VLOOKUP(Sheet2!$A104&Sheet2!$B104&Sheet2!$C104&Sheet2!$D104,Sheet2!$F$20:$H$47,3,0),0)) -> 0

Sheet Sheet2
A1: 성별 | B1: 등록구분 | D1: 구분코드 | E1: 스카우트 | F1: 구분코드 | G1: 걸스카우트 | H1: 구분코드 | I1: 면제구분 | J1: 구분코드 | L1: 스카우트 | P1: 걸스카우트
A2: 남자 | B2: 신규 | C2: 스카우트위주 | D2: 1 | E2: 비버스카우트 | F2: a | G2: 초록별대 | H2: a | I2: 면제없음 | J2: a | L2: 구분 | M2: 등록비 | N2: 이중등록비 | P2: 구분 | Q2: 등록비 | R2: 이중등록비
A3: 여자 | B3: 계속 | C3: 걸스카우트위주 | D3: 2 | E3: 컵스카우트 | F3: b | G3: 개나리대 | H3: b | I3: 사회적배려 | J3: c | L3: 비버스카우트 | M3: 17000 | N3: 7000 | P3: 초록별대(유) | Q3: 17000 | R3: 7000
C4: 스카우트만 | D4: 3 | E4: 스카우트 | F4: b | G4: 진달래대 | H4: b | I4: 육성위원장 | J4: d | L4: 컵스카우트(초) | M4: 25000 | N4: 7000 | P4: 개나리대(초) | Q4: 25000 | R4: 7000
C5: 걸스카우트만 | D5: 4 | E5: 벤처스카우트 | F5: b | G5: 소녀대 | H5: b | I5: 부육성위원장 | J5: d | L5: 스카우트(중) | M5: 25000 | N5: 7000 | P5: 진달래대(초) | Q5: 25000 | R5: 7000
E6: 로버스카우트 | F6: c | G6: 연장대 | H6: b | I6: 평생/중복 | J6: b | L6: 벤처스카우트(고) | M6: 25000 | N6: 7000 | P6: 소녀대(중) | Q6: 25000 | R6: 7000
E7: 지도자 | F7: c | G7: 연구대 | H7: c | L7: 사회적(이중) | M7: 12500 | N7: 3000 | P7: 연장대(고) | Q7: 25000 | R7: 7000
G8: 지도자 | H8: c | L8: 사회적 | M8: 12500 | N8: 0 | P8: 사회적(이중) | Q8: 12500 | R8: 3000
L9: 로버스카우트 | M9: 25000 | N9: 7000 | P9: 사회적 | Q9: 12500 | R9: 0
L10: 지도자 | M10: 25000 | N10: 7000 | P10: 연구대(대) | Q10: 25000 | R10: 7000
P11: 지도자 | Q11: 25000 | R11: 7000
A12: 등록구분 | B12: 스카우트 | C12: 걸스카우트 | D12: 면제구분
A13: =IF(Sheet1!$O33=1,1,IF(Sheet1!$O33=2,2,IF(Sheet1!$O33=3,3,IF(Sheet1!$O33=4,4,0)))) -> 0 | B13: =IF(Sheet1!$P33="a",1,IF(Sheet1!$P33="b",2,IF(Sheet1!$P33="c",3,4))) -> 4 | C13: =IF(Sheet1!$Q33="a",1,IF(Sheet1!$Q33="b",2,IF(Sheet1!$Q33="c",3,4))) -> 4 | D13: =IF(Sheet1!N33="a",1,IF(Sheet1!N33="b",2,IF(Sheet1!N33="C",3,IF(Sheet1!N33="d",4,5)))) -> 5
A14: =IF(Sheet1!$O34=1,1,IF(Sheet1!$O34=2,2,IF(Sheet1!$O34=3,3,IF(Sheet1!$O34=4,4,0)))) -> 0 | B14: =IF(Sheet1!$P34="a",1,IF(Sheet1!$P34="b",2,IF(Sheet1!$P34="c",3,4))) -> 4 | C14: =IF(Sheet1!$Q34="a",1,IF(Sheet1!$Q34="b",2,IF(Sheet1!$Q34="c",3,4))) -> 4 | D14: =IF(Sheet1!N34="a",1,IF(Sheet1!N34="b",2,IF(Sheet1!N34="C",3,IF(Sheet1!N34="d",4,5)))) -> 5
A15: =IF(Sheet1!$O35=1,1,IF(Sheet1!$O35=2,2,IF(Sheet1!$O35=3,3,IF(Sheet1!$O35=4,4,0)))) -> 0 | B15: =IF(Sheet1!$P35="a",1,IF(Sheet1!$P35="b",2,IF(Sheet1!$P35="c",3,4))) -> 4 | C15: =IF(Sheet1!$Q35="a",1,IF(Sheet1!$Q35="b",2,IF(Sheet1!$Q35="c",3,4))) -> 4 | D15: =IF(Sheet1!N35="a",1,IF(Sheet1!N35="b",2,IF(Sheet1!N35="C",3,IF(Sheet1!N35="d",4,5)))) -> 5
A16: =IF(Sheet1!$O36=1,1,IF(Sheet1!$O36=2,2,IF(Sheet1!$O36=3,3,IF(Sheet1!$O36=4,4,0)))) -> 0 | B16: =IF(Sheet1!$P36="a",1,IF(Sheet1!$P36="b",2,IF(Sheet1!$P36="c",3,4))) -> 4 | C16: =IF(Sheet1!$Q36="a",1,IF(Sheet1!$Q36="b",2,IF(Sheet1!$Q36="c",3,4))) -> 4 | D16: =IF(Sheet1!N36="a",1,IF(Sheet1!N36="b",2,IF(Sheet1!N36="C",3,IF(Sheet1!N36="d",4,5)))) -> 5
A17: =IF(Sheet1!$O37=1,1,IF(Sheet1!$O37=2,2,IF(Sheet1!$O37=3,3,IF(Sheet1!$O37=4,4,0)))) -> 0 | B17: =IF(Sheet1!$P37="a",1,IF(Sheet1!$P37="b",2,IF(Sheet1!$P37="c",3,4))) -> 4 | C17: =IF(Sheet1!$Q37="a",1,IF(Sheet1!$Q37="b",2,IF(Sheet1!$Q37="c",3,4))) -> 4 | D17: =IF(Sheet1!N37="a",1,IF(Sheet1!N37="b",2,IF(Sheet1!N37="C",3,IF(Sheet1!N37="d",4,5)))) -> 5
A18: =IF(Sheet1!$O38=1,1,IF(Sheet1!$O38=2,2,IF(Sheet1!$O38=3,3,IF(Sheet1!$O38=4,4,0)))) -> 0 | B18: =IF(Sheet1!$P38="a",1,IF(Sheet1!$P38="b",2,IF(Sheet1!$P38="c",3,4))) -> 4 | C18: =IF(Sheet1!$Q38="a",1,IF(Sheet1!$Q38="b",2,IF(Sheet1!$Q38="c",3,4))) -> 4 | D18: =IF(Sheet1!N38="a",1,IF(Sheet1!N38="b",2,IF(Sheet1!N38="C",3,IF(Sheet1!N38="d",4,5)))) -> 5
A19: =IF(Sheet1!$O39=1,1,IF(Sheet1!$O39=2,2,IF(Sheet1!$O39=3,3,IF(Sheet1!$O39=4,4,0)))) -> 0 | B19: =IF(Sheet1!$P39="a",1,IF(Sheet1!$P39="b",2,IF(Sheet1!$P39="c",3,4))) -> 4 | C19: =IF(Sheet1!$Q39="a",1,IF(Sheet1!$Q39="b",2,IF(Sheet1!$Q39="c",3,4))) -> 4 | D19: =IF(Sheet1!N39="a",1,IF(Sheet1!N39="b",2,IF(Sheet1!N39="C",3,IF(Sheet1!N39="d",4,5)))) -> 5 | F19: 코드 | G19: 스카우트 | H19: 걸스카우트
A20: =IF(Sheet1!$O40=1,1,IF(Sheet1!$O40=2,2,IF(Sheet1!$O40=3,3,IF(Sheet1!$O40=4,4,0)))) -> 0 | B20: =IF(Sheet1!$P40="a",1,IF(Sheet1!$P40="b",2,IF(Sheet1!$P40="c",3,4))) -> 4 | C20: =IF(Sheet1!$Q40="a",1,IF(Sheet1!$Q40="b",2,IF(Sheet1!$Q40="c",3,4))) -> 4 | D20: =IF(Sheet1!N40="a",1,IF(Sheet1!N40="b",2,IF(Sheet1!N40="C",3,IF(Sheet1!N40="d",4,5)))) -> 5 | F20: 1111 | G20: 17000 | H20: 7000
A21: =IF(Sheet1!$O41=1,1,IF(Sheet1!$O41=2,2,IF(Sheet1!$O41=3,3,IF(Sheet1!$O41=4,4,0)))) -> 0 | B21: =IF(Sheet1!$P41="a",1,IF(Sheet1!$P41="b",2,IF(Sheet1!$P41="c",3,4))) -> 4 | C21: =IF(Sheet1!$Q41="a",1,IF(Sheet1!$Q41="b",2,IF(Sheet1!$Q41="c",3,4))) -> 4 | D21: =IF(Sheet1!N41="a",1,IF(Sheet1!N41="b",2,IF(Sheet1!N41="C",3,IF(Sheet1!N41="d",4,5)))) -> 5 | F21: 1113 | G21: 12500 | H21: 3000
A22: =IF(Sheet1!$O42=1,1,IF(Sheet1!$O42=2,2,IF(Sheet1!$O42=3,3,IF(Sheet1!$O42=4,4,0)))) -> 0 | B22: =IF(Sheet1!$P42="a",1,IF(Sheet1!$P42="b",2,IF(Sheet1!$P42="c",3,4))) -> 4 | C22: =IF(Sheet1!$Q42="a",1,IF(Sheet1!$Q42="b",2,IF(Sheet1!$Q42="c",3,4))) -> 4 | D22: =IF(Sheet1!N42="a",1,IF(Sheet1!N42="b",2,IF(Sheet1!N42="C",3,IF(Sheet1!N42="d",4,5)))) -> 5 | F22: 1221 | G22: 25000 | H22: 7000
A23: =IF(Sheet1!$O43=1,1,IF(Sheet1!$O43=2,2,IF(Sheet1!$O43=3,3,IF(Sheet1!$O43=4,4,0)))) -> 0 | B23: =IF(Sheet1!$P43="a",1,IF(Sheet1!$P43="b",2,IF(Sheet1!$P43="c",3,4))) -> 4 | C23: =IF(Sheet1!$Q43="a",1,IF(Sheet1!$Q43="b",2,IF(Sheet1!$Q43="c",3,4))) -> 4 | D23: =IF(Sheet1!N43="a",1,IF(Sheet1!N43="b",2,IF(Sheet1!N43="C",3,IF(Sheet1!N43="d",4,5)))) -> 5 | F23: 1223 | G23: 12500 | H23: 3000
A24: =IF(Sheet1!$O44=1,1,IF(Sheet1!$O44=2,2,IF(Sheet1!$O44=3,3,IF(Sheet1!$O44=4,4,0)))) -> 0 | B24: =IF(Sheet1!$P44="a",1,IF(Sheet1!$P44="b",2,IF(Sheet1!$P44="c",3,4))) -> 4 | C24: =IF(Sheet1!$Q44="a",1,IF(Sheet1!$Q44="b",2,IF(Sheet1!$Q44="c",3,4))) -> 4 | D24: =IF(Sheet1!N44="a",1,IF(Sheet1!N44="b",2,IF(Sheet1!N44="C",3,IF(Sheet1!N44="d",4,5)))) -> 5 | F24: 2111 | G24: 7000 | H24: 17000
A25: =IF(Sheet1!$O45=1,1,IF(Sheet1!$O45=2,2,IF(Sheet1!$O45=3,3,IF(Sheet1!$O45=4,4,0)))) -> 0 | B25: =IF(Sheet1!$P45="a",1,IF(Sheet1!$P45="b",2,IF(Sheet1!$P45="c",3,4))) -> 4 | C25: =IF(Sheet1!$Q45="a",1,IF(Sheet1!$Q45="b",2,IF(Sheet1!$Q45="c",3,4))) -> 4 | D25: =IF(Sheet1!N45="a",1,IF(Sheet1!N45="b",2,IF(Sheet1!N45="C",3,IF(Sheet1!N45="d",4,5)))) -> 5 | F25: 2113 | G25: 3000 | H25: 12500
A26: =IF(Sheet1!$O46=1,1,IF(Sheet1!$O46=2,2,IF(Sheet1!$O46=3,3,IF(Sheet1!$O46=4,4,0)))) -> 0 | B26: =IF(Sheet1!$P46="a",1,IF(Sheet1!$P46="b",2,IF(Sheet1!$P46="c",3,4))) -> 4 | C26: =IF(Sheet1!$Q46="a",1,IF(Sheet1!$Q46="b",2,IF(Sheet1!$Q46="c",3,4))) -> 4 | D26: =IF(Sheet1!N46="a",1,IF(Sheet1!N46="b",2,IF(Sheet1!N46="C",3,IF(Sheet1!N46="d",4,5)))) -> 5 | F26: 2221 | G26: 7000 | H26: 25000
A27: =IF(Sheet1!$O47=1,1,IF(Sheet1!$O47=2,2,IF(Sheet1!$O47=3,3,IF(Sheet1!$O47=4,4,0)))) -> 0 | B27: =IF(Sheet1!$P47="a",1,IF(Sheet1!$P47="b",2,IF(Sheet1!$P47="c",3,4))) -> 4 | C27: =IF(Sheet1!$Q47="a",1,IF(Sheet1!$Q47="b",2,IF(Sheet1!$Q47="c",3,4))) -> 4 | D27: =IF(Sheet1!N47="a",1,IF(Sheet1!N47="b",2,IF(Sheet1!N47="C",3,IF(Sheet1!N47="d",4,5)))) -> 5 | F27: 2223 | G27: 3000 | H27: 12500
A28: =IF(Sheet1!$O48=1,1,IF(Sheet1!$O48=2,2,IF(Sheet1!$O48=3,3,IF(Sheet1!$O48=4,4,0)))) -> 0 | B28: =IF(Sheet1!$P48="a",1,IF(Sheet1!$P48="b",2,IF(Sheet1!$P48="c",3,4))) -> 4 | C28: =IF(Sheet1!$Q48="a",1,IF(Sheet1!$Q48="b",2,IF(Sheet1!$Q48="c",3,4))) -> 4 | D28: =IF(Sheet1!N48="a",1,IF(Sheet1!N48="b",2,IF(Sheet1!N48="C",3,IF(Sheet1!N48="d",4,5)))) -> 5 | F28: 3141 | G28: 17000 | H28: 0
A29: =IF(Sheet1!$O49=1,1,IF(Sheet1!$O49=2,2,IF(Sheet1!$O49=3,3,IF(Sheet1!$O49=4,4,0)))) -> 0 | B29: =IF(Sheet1!$P49="a",1,IF(Sheet1!$P49="b",2,IF(Sheet1!$P49="c",3,4))) -> 4 | C29: =IF(Sheet1!$Q49="a",1,IF(Sheet1!$Q49="b",2,IF(Sheet1!$Q49="c",3,4))) -> 4 | D29: =IF(Sheet1!N49="a",1,IF(Sheet1!N49="b",2,IF(Sheet1!N49="C",3,IF(Sheet1!N49="d",4,5)))) -> 5 | F29: 3143 | G29: 12500 | H29: 0
A30: =IF(Sheet1!$O50=1,1,IF(Sheet1!$O50=2,2,IF(Sheet1!$O50=3,3,IF(Sheet1!$O50=4,4,0)))) -> 0 | B30: =IF(Sheet1!$P50="a",1,IF(Sheet1!$P50="b",2,IF(Sheet1!$P50="c",3,4))) -> 4 | C30: =IF(Sheet1!$Q50="a",1,IF(Sheet1!$Q50="b",2,IF(Sheet1!$Q50="c",3,4))) -> 4 | D30: =IF(Sheet1!N50="a",1,IF(Sheet1!N50="b",2,IF(Sheet1!N50="C",3,IF(Sheet1!N50="d",4,5)))) -> 5 | F30: 3241 | G30: 25000 | H30: 0
A31: =IF(Sheet1!$O51=1,1,IF(Sheet1!$O51=2,2,IF(Sheet1!$O51=3,3,IF(Sheet1!$O51=4,4,0)))) -> 0 | B31: =IF(Sheet1!$P51="a",1,IF(Sheet1!$P51="b",2,IF(Sheet1!$P51="c",3,4))) -> 4 | C31: =IF(Sheet1!$Q51="a",1,IF(Sheet1!$Q51="b",2,IF(Sheet1!$Q51="c",3,4))) -> 4 | D31: =IF(Sheet1!N51="a",1,IF(Sheet1!N51="b",2,IF(Sheet1!N51="C",3,IF(Sheet1!N51="d",4,5)))) -> 5 | F31: 3243 | G31: 12500 | H31: 0
... A47: =IF(Sheet1!$O67=1,1,IF(Sheet1!$O67=2,2,IF(Sheet1!$O67=3,3,IF(Sheet1!$O67=4,4,0)))) -> 0 | B47: =IF(Sheet1!$P67="a",1,IF(Sheet1!$P67="b",2,IF(Sheet1!$P67="c",3,4))) -> 4 | C47: =IF(Sheet1!$Q67="a",1,IF(Sheet1!$Q67="b",2,IF(Sheet1!$Q67="c",3,4))) -> 4 | D47: =IF(Sheet1!N67="a",1,IF(Sheet1!N67="b",2,IF(Sheet1!N67="C",3,IF(Sheet1!N67="d",4,5)))) -> 5 | F47: 4434 | G47: 0 | H47: 0
A48: =IF(Sheet1!$O68=1,1,IF(Sheet1!$O68=2,2,IF(Sheet1!$O68=3,3,IF(Sheet1!$O68=4,4,0)))) -> 0 | B48: =IF(Sheet1!$P68="a",1,IF(Sheet1!$P68="b",2,IF(Sheet1!$P68="c",3,4))) -> 4 | C48: =IF(Sheet1!$Q68="a",1,IF(Sheet1!$Q68="b",2,IF(Sheet1!$Q68="c",3,4))) -> 4 | D48: =IF(Sheet1!N68="a",1,IF(Sheet1!N68="b",2,IF(Sheet1!N68="C",3,IF(Sheet1!N68="d",4,5)))) -> 5
A49: =IF(Sheet1!$O69=1,1,IF(Sheet1!$O69=2,2,IF(Sheet1!$O69=3,3,IF(Sheet1!$O69=4,4,0)))) -> 0 | B49: =IF(Sheet1!$P69="a",1,IF(Sheet1!$P69="b",2,IF(Sheet1!$P69="c",3,4))) -> 4 | C49: =IF(Sheet1!$Q69="a",1,IF(Sheet1!$Q69="b",2,IF(Sheet1!$Q69="c",3,4))) -> 4 | D49: =IF(Sheet1!N69="a",1,IF(Sheet1!N69="b",2,IF(Sheet1!N69="C",3,IF(Sheet1!N69="d",4,5)))) -> 5
A50: =IF(Sheet1!$O70=1,1,IF(Sheet1!$O70=2,2,IF(Sheet1!$O70=3,3,IF(Sheet1!$O70=4,4,0)))) -> 0 | B50: =IF(Sheet1!$P70="a",1,IF(Sheet1!$P70="b",2,IF(Sheet1!$P70="c",3,4))) -> 4 | C50: =IF(Sheet1!$Q70="a",1,IF(Sheet1!$Q70="b",2,IF(Sheet1!$Q70="c",3,4))) -> 4 | D50: =IF(Sheet1!N70="a",1,IF(Sheet1!N70="b",2,IF(Sheet1!N70="C",3,IF(Sheet1!N70="d",4,5)))) -> 5
A51: =IF(Sheet1!$O71=1,1,IF(Sheet1!$O71=2,2,IF(Sheet1!$O71=3,3,IF(Sheet1!$O71=4,4,0)))) -> 0 | B51: =IF(Sheet1!$P71="a",1,IF(Sheet1!$P71="b",2,IF(Sheet1!$P71="c",3,4))) -> 4 | C51: =IF(Sheet1!$Q71="a",1,IF(Sheet1!$Q71="b",2,IF(Sheet1!$Q71="c",3,4))) -> 4 | D51: =IF(Sheet1!N71="a",1,IF(Sheet1!N71="b",2,IF(Sheet1!N71="C",3,IF(Sheet1!N71="d",4,5)))) -> 5
A52: =IF(Sheet1!$O72=1,1,IF(Sheet1!$O72=2,2,IF(Sheet1!$O72=3,3,IF(Sheet1!$O72=4,4,0)))) -> 0 | B52: =IF(Sheet1!$P72="a",1,IF(Sheet1!$P72="b",2,IF(Sheet1!$P72="c",3,4))) -> 4 | C52: =IF(Sheet1!$Q72="a",1,IF(Sheet1!$Q72="b",2,IF(Sheet1!$Q72="c",3,4))) -> 4 | D52: =IF(Sheet1!N72="a",1,IF(Sheet1!N72="b",2,IF(Sheet1!N72="C",3,IF(Sheet1!N72="d",4,5)))) -> 5
A53: =IF(Sheet1!$O73=1,1,IF(Sheet1!$O73=2,2,IF(Sheet1!$O73=3,3,IF(Sheet1!$O73=4,4,0)))) -> 0 | B53: =IF(Sheet1!$P73="a",1,IF(Sheet1!$P73="b",2,IF(Sheet1!$P73="c",3,4))) -> 4 | C53: =IF(Sheet1!$Q73="a",1,IF(Sheet1!$Q73="b",2,IF(Sheet1!$Q73="c",3,4))) -> 4 | D53: =IF(Sheet1!N73="a",1,IF(Sheet1!N73="b",2,IF(Sheet1!N73="C",3,IF(Sheet1!N73="d",4,5)))) -> 5
A54: =IF(Sheet1!$O74=1,1,IF(Sheet1!$O74=2,2,IF(Sheet1!$O74=3,3,IF(Sheet1!$O74=4,4,0)))) -> 0 | B54: =IF(Sheet1!$P74="a",1,IF(Sheet1!$P74="b",2,IF(Sheet1!$P74="c",3,4))) -> 4 | C54: =IF(Sheet1!$Q74="a",1,IF(Sheet1!$Q74="b",2,IF(Sheet1!$Q74="c",3,4))) -> 4 | D54: =IF(Sheet1!N74="a",1,IF(Sheet1!N74="b",2,IF(Sheet1!N74="C",3,IF(Sheet1!N74="d",4,5)))) -> 5
A55: =IF(Sheet1!$O75=1,1,IF(Sheet1!$O75=2,2,IF(Sheet1!$O75=3,3,IF(Sheet1!$O75=4,4,0)))) -> 0 | B55: =IF(Sheet1!$P75="a",1,IF(Sheet1!$P75="b",2,IF(Sheet1!$P75="c",3,4))) -> 4 | C55: =IF(Sheet1!$Q75="a",1,IF(Sheet1!$Q75="b",2,IF(Sheet1!$Q75="c",3,4))) -> 4 | D55: =IF(Sheet1!N75="a",1,IF(Sheet1!N75="b",2,IF(Sheet1!N75="C",3,IF(Sheet1!N75="d",4,5)))) -> 5
A56: =IF(Sheet1!$O76=1,1,IF(Sheet1!$O76=2,2,IF(Sheet1!$O76=3,3,IF(Sheet1!$O76=4,4,0)))) -> 0 | B56: =IF(Sheet1!$P76="a",1,IF(Sheet1!$P76="b",2,IF(Sheet1!$P76="c",3,4))) -> 4 | C56: =IF(Sheet1!$Q76="a",1,IF(Sheet1!$Q76="b",2,IF(Sheet1!$Q76="c",3,4))) -> 4 | D56: =IF(Sheet1!N76="a",1,IF(Sheet1!N76="b",2,IF(Sheet1!N76="C",3,IF(Sheet1!N76="d",4,5)))) -> 5
A57: =IF(Sheet1!$O77=1,1,IF(Sheet1!$O77=2,2,IF(Sheet1!$O77=3,3,IF(Sheet1!$O77=4,4,0)))) -> 0 | B57: =IF(Sheet1!$P77="a",1,IF(Sheet1!$P77="b",2,IF(Sheet1!$P77="c",3,4))) -> 4 | C57: =IF(Sheet1!$Q77="a",1,IF(Sheet1!$Q77="b",2,IF(Sheet1!$Q77="c",3,4))) -> 4 | D57: =IF(Sheet1!N77="a",1,IF(Sheet1!N77="b",2,IF(Sheet1!N77="C",3,IF(Sheet1!N77="d",4,5)))) -> 5
A58: =IF(Sheet1!$O78=1,1,IF(Sheet1!$O78=2,2,IF(Sheet1!$O78=3,3,IF(Sheet1!$O78=4,4,0)))) -> 0 | B58: =IF(Sheet1!$P78="a",1,IF(Sheet1!$P78="b",2,IF(Sheet1!$P78="c",3,4))) -> 4 | C58: =IF(Sheet1!$Q78="a",1,IF(Sheet1!$Q78="b",2,IF(Sheet1!$Q78="c",3,4))) -> 4 | D58: =IF(Sheet1!N78="a",1,IF(Sheet1!N78="b",2,IF(Sheet1!N78="C",3,IF(Sheet1!N78="d",4,5)))) -> 5
A59: =IF(Sheet1!$O79=1,1,IF(Sheet1!$O79=2,2,IF(Sheet1!$O79=3,3,IF(Sheet1!$O79=4,4,0)))) -> 0 | B59: =IF(Sheet1!$P79="a",1,IF(Sheet1!$P79="b",2,IF(Sheet1!$P79="c",3,4))) -> 4 | C59: =IF(Sheet1!$Q79="a",1,IF(Sheet1!$Q79="b",2,IF(Sheet1!$Q79="c",3,4))) -> 4 | D59: =IF(Sheet1!N79="a",1,IF(Sheet1!N79="b",2,IF(Sheet1!N79="C",3,IF(Sheet1!N79="d",4,5)))) -> 5
... A104: =IF(Sheet1!$O124=1,1,IF(Sheet1!$O124=2,2,IF(Sheet1!$O124=3,3,IF(Sheet1!$O124=4,4,0)))) -> 0 | B104: =IF(Sheet1!$P124="a",1,IF(Sheet1!$P124="b",2,IF(Sheet1!$P124="c",3,4))) -> 4 | C104: =IF(Sheet1!$Q124="a",1,IF(Sheet1!$Q124="b",2,IF(Sheet1!$Q124="c",3,4))) -> 4 | D104: =IF(Sheet1!N124="a",1,IF(Sheet1!N124="b",2,IF(Sheet1!N124="C",3,IF(Sheet1!N124="d",4,5)))) -> 5
A105: =IF(Sheet1!#REF!=1,1,IF(Sheet1!#REF!=2,2,IF(Sheet1!#REF!=3,3,IF(Sheet1!#REF!=4,4,0)))) -> #REF! | B105: =IF(Sheet1!#REF!="a",1,IF(Sheet1!#REF!="b",2,IF(Sheet1!#REF!="c",3,4))) -> #REF! | C105: =IF(Sheet1!#REF!="a",1,IF(Sheet1!#REF!="b",2,IF(Sheet1!#REF!="c",3,4))) -> #REF! | D105: =IF(Sheet1!#REF!="a",1,IF(Sheet1!#REF!="b",2,IF(Sheet1!#REF!="C",3,IF(Sheet1!#REF!="d",4,5)))) -> #REF!
