Workbook

Sheet 종합
A1: 연도 대회 채점표(종합)
A3: 연도권역 | B3: 구역 | C3: 참 여 도(100%) | H3: 복 장(20%) | I3: 상가예절(20%) | J3: 연도가창력(60%) | K3: 총 점 | L3: 순 위
C4: 교적수 | D4: 참여수 | E4: 비율 | F4: 순위 | G4: 점수
A5: 시편 62 | B5: 10 | C5: 266 | D5: 19 | E5: =SUM(D5/C5) -> 0.071428571 | F5: =RANK(E5,$E$5:$E$20) -> 16 | G5: 7.1 | H5: =SUM(' 채점표'!B5,' 채점표'!E5,' 채점표'!H5,' 채점표'!K5,' 채점표'!N5) -> 71 | I5: =SUM(' 채점표'!C5,' 채점표'!F5,' 채점표'!I5,' 채점표'!L5,' 채점표'!O5) -> 69 | J5: =SUM(' 채점표'!D5,' 채점표'!G5,' 채점표'!J5,' 채점표'!M5,' 채점표'!P5) -> 195 | K5: =SUM(G5:J5) -> 342.1 | L5: =RANK(K5,$K$5:$K$20) -> 16
A6: 시편 129 | B6: 12 | C6: 290 | D6: 27 | E6: =SUM(D6/C6) -> 0.093103448 | F6: =RANK(E6,$E$5:$E$20) -> 9 | G6: 9.3 | H6: =SUM(' 채점표'!B6,' 채점표'!E6,' 채점표'!H6,' 채점표'!K6,' 채점표'!N6) -> 72 | I6: =SUM(' 채점표'!C6,' 채점표'!F6,' 채점표'!I6,' 채점표'!L6,' 채점표'!O6) -> 72 | J6: =SUM(' 채점표'!D6,' 채점표'!G6,' 채점표'!J6,' 채점표'!M6,' 채점표'!P6) -> 204 | K6: =SUM(G6:J6) -> 357.3 | L6: =RANK(K6,$K$5:$K$20) -> 15
A7: 시편 50 | B7: 9 | C7: 390 | D7: 31 | E7: =SUM(D7/C7) -> 0.079487179 | F7: =RANK(E7,$E$5:$E$20) -> 14 | G7: 7.9 | H7: =SUM(' 채점표'!B7,' 채점표'!E7,' 채점표'!H7,' 채점표'!K7,' 채점표'!N7) -> 76 | I7: =SUM(' 채점표'!C7,' 채점표'!F7,' 채점표'!I7,' 채점표'!L7,' 채점표'!O7) -> 72 | J7: =SUM(' 채점표'!D7,' 채점표'!G7,' 채점표'!J7,' 채점표'!M7,' 채점표'!P7) -> 213 | K7: =SUM(G7:J7) -> 368.9 | L7: =RANK(K7,$K$5:$K$20) -> 10
A8: 호칭기도 1 | B8: 8 | C8: 392 | D8: 35 | E8: =SUM(D8/C8) -> 0.089285714 | F8: =RANK(E8,$E$5:$E$20) -> 12 | G8: 8.9 | H8: =SUM(' 채점표'!B8,' 채점표'!E8,' 채점표'!H8,' 채점표'!K8,' 채점표'!N8) -> 74 | I8: =SUM(' 채점표'!C8,' 채점표'!F8,' 채점표'!I8,' 채점표'!L8,' 채점표'!O8) -> 73 | J8: =SUM(' 채점표'!D8,' 채점표'!G8,' 채점표'!J8,' 채점표'!M8,' 채점표'!P8) -> 220 | K8: =SUM(G8:J8) -> 375.9 | L8: =RANK(K8,$K$5:$K$20) -> 8
A9: 호칭기도 2 | B9: 4 | C9: 391 | D9: 35 | E9: =SUM(D9/C9) -> 0.089514066 | F9: =RANK(E9,$E$5:$E$20) -> 10 | G9: 9 | H9: =SUM(' 채점표'!B9,' 채점표'!E9,' 채점표'!H9,' 채점표'!K9,' 채점표'!N9) -> 72 | I9: =SUM(' 채점표'!C9,' 채점표'!F9,' 채점표'!I9,' 채점표'!L9,' 채점표'!O9) -> 69 | J9: =SUM(' 채점표'!D9,' 채점표'!G9,' 채점표'!J9,' 채점표'!M9,' 채점표'!P9) -> 210 | K9: =SUM(G9:J9) -> 360 | L9: =RANK(K9,$K$5:$K$20) -> 14
A10: 호칭기도 3 | B10: 14 | C10: 301 | D10: 50 | E10: =SUM(D10/C10) -> 0.16611296 | F10: =RANK(E10,$E$5:$E$20) -> 3 | G10: 16.6 | H10: =SUM(' 채점표'!B10,' 채점표'!E10,' 채점표'!H10,' 채점표'!K10,' 채점표'!N10) -> 78 | I10: =SUM(' 채점표'!C10,' 채점표'!F10,' 채점표'!I10,' 채점표'!L10,' 채점표'!O10) -> 76 | J10: =SUM(' 채점표'!D10,' 채점표'!G10,' 채점표'!J10,' 채점표'!M10,' 채점표'!P10) -> 217 | K10: =SUM(G10:J10) -> 387.6 | L10: =RANK(K10,$K$5:$K$20) -> 1
A11: 찬미가 | B11: 5 | C11: 479 | D11: 35 | E11: =SUM(D11/C11) -> 0.073068894 | F11: =RANK(E11,$E$5:$E$20) -> 15 | G11: 7.3 | H11: =SUM(' 채점표'!B11,' 채점표'!E11,' 채점표'!H11,' 채점표'!K11,' 채점표'!N11) -> 72 | I11: =SUM(' 채점표'!C11,' 채점표'!F11,' 채점표'!I11,' 채점표'!L11,' 채점표'!O11) -> 73 | J11: =SUM(' 채점표'!D11,' 채점표'!G11,' 채점표'!J11,' 채점표'!M11,' 채점표'!P11) -> 212 | K11: =SUM(G11:J11) -> 364.3 | L11: =RANK(K11,$K$5:$K$20) -> 11
A12: 찬미가, 주님의 기도 | B12: 7 | C12: 305 | D12: 56 | E12: =SUM(D12/C12) -> 0.18360656 | F12: =RANK(E12,$E$5:$E$20) -> 1 | G12: 18.4 | H12: =SUM(' 채점표'!B12,' 채점표'!E12,' 채점표'!H12,' 채점표'!K12,' 채점표'!N12) -> 77 | I12: =SUM(' 채점표'!C12,' 채점표'!F12,' 채점표'!I12,' 채점표'!L12,' 채점표'!O12) -> 77 | J12: =SUM(' 채점표'!D12,' 채점표'!G12,' 채점표'!J12,' 채점표'!M12,' 채점표'!P12) -> 212 | K12: =SUM(G12:J12) -> 384.4 | L12: =RANK(K12,$K$5:$K$20) -> 3
A13: 시편 62 | B13: 15 | C13: 307 | D13: 36 | E13: =SUM(D13/C13) -> 0.11726384 | F13: =RANK(E13,$E$5:$E$20) -> 5 | G13: 11.7 | H13: =SUM(' 채점표'!B13,' 채점표'!E13,' 채점표'!H13,' 채점표'!K13,' 채점표'!N13) -> 73 | I13: =SUM(' 채점표'!C13,' 채점표'!F13,' 채점표'!I13,' 채점표'!L13,' 채점표'!O13) -> 69 | J13: =SUM(' 채점표'!D13,' 채점표'!G13,' 채점표'!J13,' 채점표'!M13,' 채점표'!P13) -> 209 | K13: =SUM(G13:J13) -> 362.7 | L13: =RANK(K13,$K$5:$K$20) -> 12
A14: 시편 129 | B14: 11 | C14: 391 | D14: 35 | E14: =SUM(D14/C14) -> 0.089514066 | F14: =RANK(E14,$E$5:$E$20) -> 10 | G14: 9 | H14: =SUM(' 채점표'!B14,' 채점표'!E14,' 채점표'!H14,' 채점표'!K14,' 채점표'!N14) -> 75 | I14: =SUM(' 채점표'!C14,' 채점표'!F14,' 채점표'!I14,' 채점표'!L14,' 채점표'!O14) -> 74 | J14: =SUM(' 채점표'!D14,' 채점표'!G14,' 채점표'!J14,' 채점표'!M14,' 채점표'!P14) -> 223 | K14: =SUM(G14:J14) -> 381 | L14: =RANK(K14,$K$5:$K$20) -> 6
A15: 시편 50 | B15: 16 | C15: 306 | D15: 29 | E15: =SUM(D15/C15) -> 0.094771242 | F15: =RANK(E15,$E$5:$E$20) -> 8 | G15: 9.5 | H15: =SUM(' 채점표'!B15,' 채점표'!E15,' 채점표'!H15,' 채점표'!K15,' 채점표'!N15) -> 76 | I15: =SUM(' 채점표'!C15,' 채점표'!F15,' 채점표'!I15,' 채점표'!L15,' 채점표'!O15) -> 71 | J15: =SUM(' 채점표'!D15,' 채점표'!G15,' 채점표'!J15,' 채점표'!M15,' 채점표'!P15) -> 217 | K15: =SUM(G15:J15) -> 373.5 | L15: =RANK(K15,$K$5:$K$20) -> 9
A16: 호칭기도 4 | B16: 3 | C16: 256 | D16: 45 | E16: =SUM(D16/C16) -> 0.17578125 | F16: =RANK(E16,$E$5:$E$20) -> 2 | G16: 17.6 | H16: =SUM(' 채점표'!B16,' 채점표'!E16,' 채점표'!H16,' 채점표'!K16,' 채점표'!N16) -> 76 | I16: =SUM(' 채점표'!C16,' 채점표'!F16,' 채점표'!I16,' 채점표'!L16,' 채점표'!O16) -> 72 | J16: =SUM(' 채점표'!D16,' 채점표'!G16,' 채점표'!J16,' 채점표'!M16,' 채점표'!P16) -> 216 | K16: =SUM(G16:J16) -> 381.6 | L16: =RANK(K16,$K$5:$K$20) -> 5
... A20: 찬미가, 주님의 기도 | B20: 1 | C20: 443 | D20: 47 | E20: =SUM(D20/C20) -> 0.10609481 | F20: =RANK(E20,$E$5:$E$20) -> 6 | G20: 10.6 | H20: =SUM(' 채점표'!B20,' 채점표'!E20,' 채점표'!H20,' 채점표'!K20,' 채점표'!N20) -> 75 | I20: =SUM(' 채점표'!C20,' 채점표'!F20,' 채점표'!I20,' 채점표'!L20,' 채점표'!O20) -> 77 | J20: =SUM(' 채점표'!D20,' 채점표'!G20,' 채점표'!J20,' 채점표'!M20,' 채점표'!P20) -> 220 | K20: =SUM(G20:J20) -> 382.6 | L20: =RANK(K20,$K$5:$K$20) -> 4
D21: =SUM(D5:D20) -> 600

Sheet  채점표
A1: 연도대회 채점표
A3: 구역 | B3: 심사위원1 | E3: 심사위원2 | H3: 심사위원3 | K3: 심사위원4 | N3: 심사위원5
B4: 복 장(20%) | C4: 상가예절(20%) | D4: 연도가창력(60%) | E4: 복 장(20%) | F4: 상가예절(20%) | G4: 연도가창력(60%) | H4: 복 장(20%) | I4: 상가예절(20%) | J4: 연도가창력(60%) | K4: 복 장(20%) | L4: 상가예절(20%) | M4: 연도가창력(60%) | N4: 복 장(20%) | O4: 상가예절(20%) | P4: 연도가창력(60%)
A5: 10 | B5: 17 | C5: 18 | D5: 50 | E5: 18 | F5: 20 | G5: 49 | H5: 18 | I5: 17 | J5: 56 | K5: 18 | L5: 14 | M5: 40
A6: 12 | B6: 18 | C6: 17 | D6: 42 | E6: 17 | F6: 18 | G6: 55 | H6: 18 | I6: 18 | J6: 49 | K6: 19 | L6: 19 | M6: 58
A7: 9 | B7: 20 | C7: 19 | D7: 50 | E7: 19 | F7: 19 | G7: 56 | H7: 19 | I7: 19 | J7: 59 | K7: 18 | L7: 15 | M7: 48
A8: 8 | B8: 18 | C8: 16 | D8: 50 | E8: 18 | F8: 19 | G8: 58 | H8: 18 | I8: 19 | J8: 58 | K8: 20 | L8: 19 | M8: 54
A9: 4 | B9: 18 | C9: 14 | D9: 47 | E9: 18 | F9: 17 | G9: 57 | H9: 18 | I9: 19 | J9: 57 | K9: 18 | L9: 19 | M9: 49
A10: 14 | B10: 19 | C10: 19 | D10: 57 | E10: 20 | F10: 20 | G10: 54 | H10: 20 | I10: 20 | J10: 57 | K10: 19 | L10: 17 | M10: 49
A11: 5 | B11: 17 | C11: 16 | D11: 47 | E11: 19 | F11: 18 | G11: 58 | H11: 17 | I11: 19 | J11: 50 | K11: 19 | L11: 20 | M11: 57
A12: 7 | B12: 19 | C12: 19 | D12: 58 | E12: 19 | F12: 20 | G12: 51 | H12: 20 | I12: 20 | J12: 57 | K12: 19 | L12: 18 | M12: 46
A13: 15 | B13: 17 | C13: 14 | D13: 46 | E13: 18 | F13: 18 | G13: 57 | H13: 19 | I13: 18 | J13: 49 | K13: 19 | L13: 19 | M13: 57
A14: 11 | B14: 18 | C14: 19 | D14: 59 | E14: 19 | F14: 20 | G14: 56 | H14: 20 | I14: 19 | J14: 58 | K14: 18 | L14: 16 | M14: 50
A15: 16 | B15: 20 | C15: 20 | D15: 56 | E15: 19 | F15: 19 | G15: 58 | H15: 19 | I15: 18 | J15: 58 | K15: 18 | L15: 14 | M15: 45
A16: 3 | B16: 19 | C16: 20 | D16: 54 | E16: 20 | F16: 20 | G16: 58 | H16: 19 | I16: 19 | J16: 59 | K16: 18 | L16: 13 | M16: 45
... A20: 1 | B20: 19 | C20: 19 | D20: 58 | E20: 19 | F20: 20 | G20: 56 | H20: 19 | I20: 20 | J20: 58 | K20: 18 | L20: 18 | M20: 48
